BEGIN:VCALENDAR
VERSION:2.0
PRODID:-//OVWE - ECPv6.15.20//NONSGML v1.0//EN
CALSCALE:GREGORIAN
METHOD:PUBLISH
X-WR-CALNAME:OVWE
X-ORIGINAL-URL:https://ovwe.nl
X-WR-CALDESC:Evenementen voor OVWE
REFRESH-INTERVAL;VALUE=DURATION:PT1H
X-Robots-Tag:noindex
X-PUBLISHED-TTL:PT1H
BEGIN:VTIMEZONE
TZID:Europe/Amsterdam
BEGIN:DAYLIGHT
TZOFFSETFROM:+0100
TZOFFSETTO:+0200
TZNAME:CEST
DTSTART:20190331T010000
END:DAYLIGHT
BEGIN:STANDARD
TZOFFSETFROM:+0200
TZOFFSETTO:+0100
TZNAME:CET
DTSTART:20191027T010000
END:STANDARD
BEGIN:DAYLIGHT
TZOFFSETFROM:+0100
TZOFFSETTO:+0200
TZNAME:CEST
DTSTART:20200329T010000
END:DAYLIGHT
BEGIN:STANDARD
TZOFFSETFROM:+0200
TZOFFSETTO:+0100
TZNAME:CET
DTSTART:20201025T010000
END:STANDARD
BEGIN:DAYLIGHT
TZOFFSETFROM:+0100
TZOFFSETTO:+0200
TZNAME:CEST
DTSTART:20210328T010000
END:DAYLIGHT
BEGIN:STANDARD
TZOFFSETFROM:+0200
TZOFFSETTO:+0100
TZNAME:CET
DTSTART:20211031T010000
END:STANDARD
BEGIN:DAYLIGHT
TZOFFSETFROM:+0100
TZOFFSETTO:+0200
TZNAME:CEST
DTSTART:20220327T010000
END:DAYLIGHT
BEGIN:STANDARD
TZOFFSETFROM:+0200
TZOFFSETTO:+0100
TZNAME:CET
DTSTART:20221030T010000
END:STANDARD
BEGIN:DAYLIGHT
TZOFFSETFROM:+0100
TZOFFSETTO:+0200
TZNAME:CEST
DTSTART:20230326T010000
END:DAYLIGHT
BEGIN:STANDARD
TZOFFSETFROM:+0200
TZOFFSETTO:+0100
TZNAME:CET
DTSTART:20231029T010000
END:STANDARD
BEGIN:DAYLIGHT
TZOFFSETFROM:+0100
TZOFFSETTO:+0200
TZNAME:CEST
DTSTART:20240331T010000
END:DAYLIGHT
BEGIN:STANDARD
TZOFFSETFROM:+0200
TZOFFSETTO:+0100
TZNAME:CET
DTSTART:20241027T010000
END:STANDARD
BEGIN:DAYLIGHT
TZOFFSETFROM:+0100
TZOFFSETTO:+0200
TZNAME:CEST
DTSTART:20250330T010000
END:DAYLIGHT
BEGIN:STANDARD
TZOFFSETFROM:+0200
TZOFFSETTO:+0100
TZNAME:CET
DTSTART:20251026T010000
END:STANDARD
BEGIN:DAYLIGHT
TZOFFSETFROM:+0100
TZOFFSETTO:+0200
TZNAME:CEST
DTSTART:20260329T010000
END:DAYLIGHT
BEGIN:STANDARD
TZOFFSETFROM:+0200
TZOFFSETTO:+0100
TZNAME:CET
DTSTART:20261025T010000
END:STANDARD
BEGIN:DAYLIGHT
TZOFFSETFROM:+0100
TZOFFSETTO:+0200
TZNAME:CEST
DTSTART:20270328T010000
END:DAYLIGHT
BEGIN:STANDARD
TZOFFSETFROM:+0200
TZOFFSETTO:+0100
TZNAME:CET
DTSTART:20271031T010000
END:STANDARD
END:VTIMEZONE
BEGIN:VTIMEZONE
TZID:Europe/Paris
BEGIN:DAYLIGHT
TZOFFSETFROM:+0100
TZOFFSETTO:+0200
TZNAME:CEST
DTSTART:20160327T010000
END:DAYLIGHT
BEGIN:STANDARD
TZOFFSETFROM:+0200
TZOFFSETTO:+0100
TZNAME:CET
DTSTART:20161030T010000
END:STANDARD
BEGIN:DAYLIGHT
TZOFFSETFROM:+0100
TZOFFSETTO:+0200
TZNAME:CEST
DTSTART:20170326T010000
END:DAYLIGHT
BEGIN:STANDARD
TZOFFSETFROM:+0200
TZOFFSETTO:+0100
TZNAME:CET
DTSTART:20171029T010000
END:STANDARD
BEGIN:DAYLIGHT
TZOFFSETFROM:+0100
TZOFFSETTO:+0200
TZNAME:CEST
DTSTART:20180325T010000
END:DAYLIGHT
BEGIN:STANDARD
TZOFFSETFROM:+0200
TZOFFSETTO:+0100
TZNAME:CET
DTSTART:20181028T010000
END:STANDARD
BEGIN:DAYLIGHT
TZOFFSETFROM:+0100
TZOFFSETTO:+0200
TZNAME:CEST
DTSTART:20190331T010000
END:DAYLIGHT
BEGIN:STANDARD
TZOFFSETFROM:+0200
TZOFFSETTO:+0100
TZNAME:CET
DTSTART:20191027T010000
END:STANDARD
BEGIN:DAYLIGHT
TZOFFSETFROM:+0100
TZOFFSETTO:+0200
TZNAME:CEST
DTSTART:20200329T010000
END:DAYLIGHT
BEGIN:STANDARD
TZOFFSETFROM:+0200
TZOFFSETTO:+0100
TZNAME:CET
DTSTART:20201025T010000
END:STANDARD
BEGIN:DAYLIGHT
TZOFFSETFROM:+0100
TZOFFSETTO:+0200
TZNAME:CEST
DTSTART:20210328T010000
END:DAYLIGHT
BEGIN:STANDARD
TZOFFSETFROM:+0200
TZOFFSETTO:+0100
TZNAME:CET
DTSTART:20211031T010000
END:STANDARD
END:VTIMEZONE
BEGIN:VEVENT
DTSTART;TZID=Europe/Amsterdam:20260109T170000
DTEND;TZID=Europe/Amsterdam:20260109T200000
DTSTAMP:20260423T133530
CREATED:20251215T174610Z
LAST-MODIFIED:20251215T174610Z
UID:1315-1767978000-1767988800@ovwe.nl
SUMMARY:Nieuwjaarsborrel met buffet
DESCRIPTION:
URL:https://ovwe.nl/agenda/nieuwjaarsborrel-met-buffet-2/
LOCATION:cafe bergsma easterein
END:VEVENT
BEGIN:VEVENT
DTSTART;TZID=Europe/Amsterdam:20251120T200000
DTEND;TZID=Europe/Amsterdam:20251120T230000
DTSTAMP:20260423T133530
CREATED:20251016T182907Z
LAST-MODIFIED:20251016T190032Z
UID:1281-1763668800-1763679600@ovwe.nl
SUMMARY:Wijnproeverij met Jeletvin bij Wiersma Equipment
DESCRIPTION:Op donderdag 20 november organiseert de OVWE een wijnproeverij in samenwerking met Jeletvin bij Wiersma Equipment op de Iisbaan 4 in Wommels. \nLeden kunnen zich opgeven t/m 13 november. \nhttps://www.jeletvin.nl/over-ons
URL:https://ovwe.nl/agenda/wijnproeverij-met-jeletvin-bij-wiersma-equipment/
LOCATION:wiersma equipment\, De iisbaan 4\, Wommels\, 8731 DW\, Netherlands
END:VEVENT
BEGIN:VEVENT
DTSTART;TZID=Europe/Amsterdam:20240215T170000
DTEND;TZID=Europe/Amsterdam:20240215T193000
DTSTAMP:20260423T133530
CREATED:20231003T090321Z
LAST-MODIFIED:20231003T090321Z
UID:1225-1708016400-1708025400@ovwe.nl
SUMMARY:Bedrijfsbezoek bij Wajer in Heeg
DESCRIPTION:Dit is een van de leuke ideeën die uit de enquête kwam\, een bedrijfsbezoek. \nwe beginnen bij het mooie bedrijf Wajer te Heeg\,  zij maken hele mooie tenders en je kunt ze vinden op verschillende plakken in Europa. Voor meer info kunt u de website bekijken: www.wajer.com \nU kunt zich aanmelden via deze link. \n 
URL:https://ovwe.nl/agenda/bedrijfsbezoek-bij-wajer-in-heeg/
LOCATION:Wajer\, It Butlan 16\, Heeg\, 8621 DV\, Nederland
END:VEVENT
BEGIN:VEVENT
DTSTART;TZID=Europe/Amsterdam:20240112T170000
DTEND;TZID=Europe/Amsterdam:20240112T200000
DTSTAMP:20260423T133530
CREATED:20231003T085724Z
LAST-MODIFIED:20231003T085724Z
UID:1223-1705078800-1705089600@ovwe.nl
SUMMARY:Nieuwjaarsborrel met buffet
DESCRIPTION:Graag aanmelden via deze link. \n 
URL:https://ovwe.nl/agenda/nieuwjaarsborrel-met-buffet/
LOCATION:Dielshus
END:VEVENT
BEGIN:VEVENT
DTSTART;TZID=Europe/Amsterdam:20231108T193000
DTEND;TZID=Europe/Amsterdam:20231108T223000
DTSTAMP:20260423T133530
CREATED:20231003T085459Z
LAST-MODIFIED:20231003T085459Z
UID:1221-1699471800-1699482600@ovwe.nl
SUMMARY:Ledenvergadering met gastspreker Gerben Okkinga
DESCRIPTION:Op 8 november om 19:30 uur\, \nIs er ledenvergadering bij Bergsma in Easterein. \nAls gastspreker hebben we Gerben Okkinga uitgenodigd\, van Okkinga communicatie\, hij gaat vertellen over zijn bedrijf maar ook het belang van marketing\, communicatie ed \nTijdens deze vergadering nemen we ook de Ondernemersfonds aanvragen door.  \nWanneer je nog een nieuwe aanvraag wilt doen? Mail het ons en dan kunnen we bekijken of het dit jaar nog lukt. \n  \n  \n 
URL:https://ovwe.nl/agenda/ledenvergadering-met-gastspreker-gerben-okkinga/
LOCATION:cafe bergsma easterein
END:VEVENT
BEGIN:VEVENT
DTSTART;TZID=Europe/Amsterdam:20230917T133000
DTEND;TZID=Europe/Amsterdam:20230917T200000
DTSTAMP:20260423T133530
CREATED:20230729T131510Z
LAST-MODIFIED:20230729T131510Z
UID:1213-1694957400-1694980800@ovwe.nl
SUMMARY:Uitje 17 september 2023
DESCRIPTION:Dit hebben we gepland op Zondag 17 september. \nHet programma is als volgt: \n13:25 Bus vertrekt vanuit Easterein \n13:30 Bus vertrekt vanaf de Terp in Wommels \n13:50 Aankomst De Grote Wielen Leeuwarden \n14:00 Start sloepvaren door Leeuwarden \n17:00 Gezellig op terras bij kletsen \n18:00 Lekker eten \nRond 20:00 uur vertrekt de bus weer richting Wommels & Easterein. \nDe kosten voor deze leuk dag zijn € 50\,- pp. \nHet wordt ongetwijfeld een gezellige dag en we hopen natuurlijk op een grote opkomst. \nBent u enthousiast\,  dan kunt u zich opgeven via deze link  of door deze mail te beantwoorden. Doe je het via de mail\, vergeet dat niet eventuele dieetwensen door te geven.  In verband met de vakantie zou u zich voor 1 augustus willen opgeven? \nWe zien u graag op zondag 17 september en prettige vakantie. \n 
URL:https://ovwe.nl/agenda/uitje-17-september-2023/
LOCATION:De grote wielen Leeuwarden\, Leeuwarden\, Nederland
END:VEVENT
BEGIN:VEVENT
DTSTART;TZID=Europe/Amsterdam:20230419T200000
DTEND;TZID=Europe/Amsterdam:20230419T220000
DTSTAMP:20260423T133530
CREATED:20230111T084644Z
LAST-MODIFIED:20230419T132201Z
UID:1204-1681934400-1681941600@ovwe.nl
SUMMARY:Algemene Ledenvergadering (ALV)
DESCRIPTION:
URL:https://ovwe.nl/agenda/algemene-ledenvergadering-alv/
LOCATION:bergsma easterein
END:VEVENT
BEGIN:VEVENT
DTSTART;VALUE=DATE:20230331
DTEND;VALUE=DATE:20230401
DTSTAMP:20260423T133530
CREATED:20230111T084932Z
LAST-MODIFIED:20230111T084932Z
UID:1208-1680220800-1680307199@ovwe.nl
SUMMARY:Deadline aanvragen ondernemersfonds voorjaar 2023
DESCRIPTION:
URL:https://ovwe.nl/agenda/deadline-aanvragen-ondernemersfonds-voorjaar-2023/
END:VEVENT
BEGIN:VEVENT
DTSTART;TZID=Europe/Amsterdam:20230113T170000
DTEND;TZID=Europe/Amsterdam:20230113T200000
DTSTAMP:20260423T133530
CREATED:20230111T084729Z
LAST-MODIFIED:20230111T084729Z
UID:1206-1673629200-1673640000@ovwe.nl
SUMMARY:Nieuwjaarsborrel
DESCRIPTION:
URL:https://ovwe.nl/agenda/nieuwjaarsborrel/
LOCATION:Dielshus
END:VEVENT
BEGIN:VEVENT
DTSTART;TZID=Europe/Amsterdam:20220904T080000
DTEND;TZID=Europe/Amsterdam:20220904T210000
DTSTAMP:20260423T133530
CREATED:20220721T113758Z
LAST-MODIFIED:20220826T135122Z
UID:1170-1662278400-1662325200@ovwe.nl
SUMMARY:4 september ledenuitje
DESCRIPTION:Helaas geannuleerd ivm te weinig opgaaf. Er wordt zsm naar een alternatief en nieuwe datum gezocht. \n 
URL:https://ovwe.nl/agenda/4-september-ledenuitje-den-helder-en-den-oever/
END:VEVENT
BEGIN:VEVENT
DTSTART;TZID=Europe/Amsterdam:20220413T200000
DTEND;TZID=Europe/Amsterdam:20220413T233000
DTSTAMP:20260423T133530
CREATED:20220318T093620Z
LAST-MODIFIED:20220318T093620Z
UID:1166-1649880000-1649892600@ovwe.nl
SUMMARY:ALV
DESCRIPTION:ALV voor alle leden. agenda punt is de lopende zakende o.a. mbt ondernemersfonds en stemmen voor projekten 2022 en gaan we verder met het fonds!? \n  \n 
URL:https://ovwe.nl/agenda/alv/
LOCATION:Dielshus
END:VEVENT
BEGIN:VEVENT
DTSTART;TZID=Europe/Amsterdam:20211230T170000
DTEND;TZID=Europe/Amsterdam:20211230T230000
DTSTAMP:20260423T133530
CREATED:20210819T113447Z
LAST-MODIFIED:20210819T113447Z
UID:1130-1640883600-1640905200@ovwe.nl
SUMMARY:kerstborrel en buffet
DESCRIPTION:nadere info volgt
URL:https://ovwe.nl/agenda/kerstborrel-en-buffet/
LOCATION:Dielshus
END:VEVENT
BEGIN:VEVENT
DTSTART;TZID=Europe/Amsterdam:20211110T200000
DTEND;TZID=Europe/Amsterdam:20211110T230000
DTSTAMP:20260423T133530
CREATED:20210819T114324Z
LAST-MODIFIED:20211006T145723Z
UID:1137-1636574400-1636585200@ovwe.nl
SUMMARY:thema avond
DESCRIPTION:Gezellige ontspannen avond voor alle leden met Cabaretpoel!
URL:https://ovwe.nl/agenda/thema-avond/
LOCATION:cafe bergsma easterein
END:VEVENT
BEGIN:VEVENT
DTSTART;TZID=Europe/Amsterdam:20210901T200000
DTEND;TZID=Europe/Amsterdam:20210901T220000
DTSTAMP:20260423T133530
CREATED:20210819T113251Z
LAST-MODIFIED:20210819T113251Z
UID:1127-1630526400-1630533600@ovwe.nl
SUMMARY:algemene ledenvergadering
DESCRIPTION:  \nAgenda voor de algemene ledenvergadering op woensdag 1 september 2021 om 20.00 in het\nReade Hynder te Wommels \n\nOpening\nMededelingen en ingekomen stukken\nNotulen Voorjaarsvergadering 2020\nVerslag Penningmeester\nPauze\nOndernemersfonds\n\n\nStand van zaken Ondernemersfonds\nGoedkeuring aanvragen 2021\n\n\nRondvraag
URL:https://ovwe.nl/agenda/algemene-ledenvergadering/
LOCATION:it Reade Hynder\, it Noard\, Wommels
END:VEVENT
BEGIN:VEVENT
DTSTART;TZID=Europe/Amsterdam:20200318T200000
DTEND;TZID=Europe/Amsterdam:20200318T230000
DTSTAMP:20260423T133530
CREATED:20200226T074027Z
LAST-MODIFIED:20200316T081957Z
UID:1072-1584561600-1584572400@ovwe.nl
SUMMARY:voorjaarsvergadering leden 18mrt gaat niet door
DESCRIPTION:Tot nader order hebben we besloten om de vergadering uit te stellen.\nALV in it Reade Hynder. Introductie van onze bedrijfscontactfunktionaris Frits Bouterse (gemeente SWF) en in stemming brengen van de aanvragen voor het ondernemersfonds.
URL:https://ovwe.nl/agenda/voorjaarsvergadering-leden/
END:VEVENT
BEGIN:VEVENT
DTSTART;TZID=Europe/Paris:20200103T170000
DTEND;TZID=Europe/Paris:20200103T170000
DTSTAMP:20260423T133530
CREATED:20190919T073515Z
LAST-MODIFIED:20191227T135103Z
UID:584-1578070800-1578070800@ovwe.nl
SUMMARY:nieuwjaarsreceptie it dielshus wommels
DESCRIPTION:Wij nodigen u en uw partner graag uit voor de nieuwjaarsbijeenkomst op vrijdag 3 januari 2020 in it Dielshûs te Wommels. Aanvang 17.00\, vanaf 18.30 wordt er een buffet geserveerd. Opgave via de mail info@ovw.nl.\nGraag tot dan!\nAnne\, Jan\, Tom\, Berend\, Fokje\, Wietse en Jeroen
URL:https://ovwe.nl/agenda/nieuwjaarsreceptie-it-dielshus-wommels/
END:VEVENT
BEGIN:VEVENT
DTSTART;TZID=Europe/Paris:20191113T200000
DTEND;TZID=Europe/Paris:20191113T230000
DTSTAMP:20260423T133530
CREATED:20190919T073406Z
LAST-MODIFIED:20191018T052120Z
UID:582-1573675200-1573686000@ovwe.nl
SUMMARY:najaarsvergadering cafe bergsma easterein
DESCRIPTION:De OVWE organiseert op woensdag 13 november a.s. de najaarsvergadering \nInloop: vanaf 19.45 uur \nAanvang: 20.00 uur \nDit jaar hebben we notaris Th. Koelma van notariskantoor Jelsma Koelma uit Franeker bereidt gevonden om één en ander uit te leggen over het testament (bij overlijden)\, levenstestament (algehele volmacht) en welke aantrekkelijke mogelijkheden zijn er m.b.t. bedrijfsopvolging en overnames. \nVerder zal de notaris e.e.a. vertellen over leuke zaken die hij tijdens zijn loopbaan heeft meegemaakt. Na de lezing is er ruimte om vragen te stellen. \nVanaf 19.45 uur bent u welkom in restaurant “Bergsma”\, waar notaris Th. Koelma van notariskantoor Jelsma Koelma uit Franeker begint met zijn lezing. \nAlle leden mogen een introducé meenemen. \n  \nTot ziens op 13 november a.s. \n 
URL:https://ovwe.nl/agenda/najaarsvergadering-cafe-bergsma-easterein/
END:VEVENT
BEGIN:VEVENT
DTSTART;VALUE=DATE:20190825
DTEND;VALUE=DATE:20190826
DTSTAMP:20260423T133530
CREATED:20190424T114421Z
LAST-MODIFIED:20190702T132702Z
UID:566-1566691200-1566777599@ovwe.nl
SUMMARY:OVWE zomer ledenuitje Volendam
DESCRIPTION:Met de bus uit Wommels en begin van de middag ontvangst met koffie en gebak in Volendam door gids die ons zal verwelkomen. Daarna  is er voor de liefhebber de gelegenheid om in Volendam kostuum op de foto en we allen mee worden genomen ‘op’e strun’ door Volendam. We varen onder genot van een drankje naar Marken voor een wandeling op eigen gelegenheid en sluiten af met een heerlijk buffet aan het IJsselmeer. Al met al alle ingrediënten om met alle leden een gezellige dag van te maken!
URL:https://ovwe.nl/agenda/ovwe-zomer-ledenuitje/
END:VEVENT
BEGIN:VEVENT
DTSTART;VALUE=DATE:20190707
DTEND;VALUE=DATE:20190708
DTSTAMP:20260423T133530
CREATED:20190425T091412Z
LAST-MODIFIED:20190704T081719Z
UID:572-1562457600-1562543999@ovwe.nl
SUMMARY:Bedrijfskaatsen OVWE Wommels
DESCRIPTION:Het bedrijfskaatsen 7 juli gaat helaas niet door dit jaar! \n 
URL:https://ovwe.nl/agenda/bedrijfskaatsen-ovwe-wommels/
END:VEVENT
BEGIN:VEVENT
DTSTART;TZID=Europe/Paris:20190417T190000
DTEND;TZID=Europe/Paris:20190417T220000
DTSTAMP:20260423T133530
CREATED:20190327T103938Z
LAST-MODIFIED:20190327T104609Z
UID:549-1555527600-1555538400@ovwe.nl
SUMMARY:Bedrijfsbezoek bij HDM Pipelines
DESCRIPTION:De OVWE organiseert op woensdag 17 april 2019 een bedrijven bezoek bij          \n HDM Pipelines BV \nWaar: Zwettestraat 27 in Leeuwarden \nVertrek: 18.45 vanaf ’t Noard te Wommels \nVervoer: Eigen (graag even aangeven of je wel/niet kunt rijden) \nOpgave: via info@ovwe.nl \, voor 12 april 2019 \n  \nHDM Pipelines B.V. is opgericht in 2011 met als doel het ondersteunen van leidingeigenaren en beheerders met asset management en integriteit vraagstukken. De specialisten van HDM Pipelines zijn experts in het vakgebied van buisleidingen en leveren efficiënte oplossingen en innovatieve diensten op basis van kennis en ervaring. \nVanaf 19.30 start de rondleiding en zal Rudy Dijkstra u e.e.a. vertellen over dit prachtige bedrijf dat gestart is in Wommels en nu alweer een jaar in Leeuwarden zit. \nWij nodigen u hierbij van harte uit!
URL:https://ovwe.nl/agenda/549/
END:VEVENT
BEGIN:VEVENT
DTSTART;TZID=Europe/Paris:20181228T200000
DTEND;TZID=Europe/Paris:20181228T230000
DTSTAMP:20260423T133530
CREATED:20180914T081852Z
LAST-MODIFIED:20180914T083027Z
UID:538-1546027200-1546038000@ovwe.nl
SUMMARY:Eindejaarsborrel in it Dielshus met vrolijke dames!
DESCRIPTION:Bestuur OVWE nodigt haar leden uit voor een eindejaarsborrel in it Dielshus op 28 december vanaf 20:00. Dit om eens wat anders te doen dan de jaarlijkse nieuwjaarsbijeenkomst. Verdere info volgt via de mail. Als speciale act komen de Pauwergirls!!!
URL:https://ovwe.nl/agenda/eindejaarsborrel-in-it-dielshus/
LOCATION:Dielshus
END:VEVENT
BEGIN:VEVENT
DTSTART;TZID=Europe/Paris:20181107T200000
DTEND;TZID=Europe/Paris:20181107T233000
DTSTAMP:20260423T133530
CREATED:20180914T082820Z
LAST-MODIFIED:20181030T105628Z
UID:540-1541620800-1541633400@ovwe.nl
SUMMARY:Najaarsbijeenkomst in Noflik Easterein gastspreker Nynke de Jong.
DESCRIPTION:De OVWE organiseert op woensdag 7 november a.s.\nde najaarsvergadering.\nOp deze najaarsvergadering kan er gestemd worden\nover het eventueel voortzetten van deelname\nin het Ondernemersfonds. \nNa dit punt op de vergadering hebben we onze\ngebruikelijke thema-avond met als spreekster \nNynke de Jong\, schrijfster\, journaliste\, columniste en\npresentatrice. \nAlle ondernemers vanuit Wommels en Easterein\, wel\nof geen lid van de OVWE zijn welkom op deze avond. \nAlle eigenaren van vastgoed wat geen woning is en\ndie nu meebetalen aan het Ondernemersfonds zijn ook stemgerechtigd. \nVanaf 19.15 bent u welkom in restaurant “Noflik Easterein”\, \nwaar Nynke de Jong om 20.15 begint met haar lezing. \nTot ziens op 7 november a. \n 
URL:https://ovwe.nl/agenda/najaarsbijeenkomst-in-noflik-easterein-gastspreker-nynke-de-jong/
LOCATION:bergsma easterein
END:VEVENT
BEGIN:VEVENT
DTSTART;TZID=Europe/Paris:20180425T190000
DTEND;TZID=Europe/Paris:20180425T220000
DTSTAMP:20260423T133530
CREATED:20180329T062031Z
LAST-MODIFIED:20180329T062031Z
UID:519-1524682800-1524693600@ovwe.nl
SUMMARY:25 april bedrijfsbezoek de Fabriek Leeuwarden
DESCRIPTION:UITNODIGING\nDe OVWE organiseert op woensdag 25 april 2018 een bedrijven bezoek bij\nDE FABRIEK LEEUWARDEN\nWaar: James Wattstraat 4 in Leeuwarden\nVertrek: 18.45 vanaf ’t Noard te Wommels\nVervoer: Eigen (graag even aangeven of je wel/niet kunt rijden)\nOpgave: via info@ovwe.nl \, voor 23 april 2018\nDe Fabriek Leeuwarden\nEen bedrijvencentrum dat inspireert\nDe Fabriek Leeuwarden is een verrassend bedrijvencentrum. Met een grote diversiteit aan ruimtes. Te huur per uur\, dag(deel) of voor langere tijd. Praktisch en zonder kapsones. Voor veel doeleinden te gebruiken en betaalbaar. Dat inspireert.\nUitdagende omgeving\nDe Fabriek Leeuwarden is een omgeving die ondernemers uitdaagt en verder helpt. Met een eetcafé waar iedereen zo binnen kan lopen. Om te werken\, mensen te ontmoeten en nieuwe contacten te leggen.\nVanaf 19.30 start de rondleiding en zal Jaap Hoekstra vertellen over het concept van dit bedrijvencentrum en het verduurzamen van zijn vastgoed.\nNa de rondleiding van ongeveer een uur kunt u onder het genot van een hapje en drankje nog even gezellig napraten.\nWij nodigen u hierbij van harte uit!
URL:https://ovwe.nl/agenda/25-april-bedrijfsbezoek-de-fabriek-leeuwarden/
END:VEVENT
BEGIN:VEVENT
DTSTART;TZID=Europe/Paris:20180411T190000
DTEND;TZID=Europe/Paris:20180411T220000
DTSTAMP:20260423T133530
CREATED:20180117T074400Z
LAST-MODIFIED:20180117T074757Z
UID:512-1523473200-1523484000@ovwe.nl
SUMMARY:BHV cursus voor leden en niet leden!
DESCRIPTION:BHV Cursus \nVia de Ondernemers Vereniging Wommels/Easterein kunt u weer deelnemen aan de herhalingscursus en basis cursus bedrijfshulpverlening. \nWe hebben in overleg met Jan van der Merk een datum vastgesteld. \nDatum herhaling en basis cursus: 11 april 2018 \nTijd: ’s avonds van 19.00 – 22.00 uur.            \n Minimaal aantal deelnemende personen per cursus: 12 personen. \nMaximaal aantal deelnemende personen per cursus: 16 personen. \nPlaats: It Dielshûs in Wommels \nDeze avond bestaat uit een theoretisch en praktisch gedeelte. In het theoretische gedeelte wordt herhaald wat te doen bij verschillende calamiteiten en ongevallen. In het praktische gedeelte zal er weer geoefend worden met verbandmiddelen\, een reanimatiepop en AED. In deze cursus zullen we het onderdeel eerste hulp uitvoerig behandelen. Brand wordt 1x in de 2 jaar herhaald. \n Kosten cursus: \n€ 50\,00 incl. btw en incl. koffie/thee p.p. \n  \nDe facturering geschiedt individueel via Jan van der Merk. \nTwee weken voor aanvang van de cursus ontvangen de cursisten een orderbevestiging. \nVoor opgave de onderstaande antwoordstrook invullen en mailen naar \nfokje@boubedriuwkooistra.nl of opsturen naar: \nOVWE \np/a F. Breimer \nGreate Buorren 13 \n8732 EE  Kûbaard \n  \n  \nINLEVEREN VOOR: 15 februari 2018 \n  \nCursus: herhalingscursus bhv/ basiscursus bhv (doorhalen wat niet van toepassing is) \n  \nNaam:……………………………………………………………………………………………. \n  \nAdres:……………………………………………………………………………………………. \n  \nP.C.+Woonplaats:…………………………………………………………………………… \n  \nTelefoon:……………………………………………………………………………………….. \n  \nAantal deelnemers:………………………………………………………………………… \n  \nHandtekening:……………………………………………………………………………….. \n 
URL:https://ovwe.nl/agenda/bhv-cursus-voor-leden-en-niet-leden/
END:VEVENT
BEGIN:VEVENT
DTSTART;TZID=Europe/Paris:20180315T200000
DTEND;TZID=Europe/Paris:20180315T220000
DTSTAMP:20260423T133530
CREATED:20180313T112439Z
LAST-MODIFIED:20180313T112439Z
UID:515-1521144000-1521151200@ovwe.nl
SUMMARY:voorjaarsledenvergadering
DESCRIPTION:De agenda en notulen zijn reeds naar de leden gemaild. De avond zal worden afgesloten door Tsjeard Hofstra over de Elfwegentocht!
URL:https://ovwe.nl/agenda/voorjaarsledenvergadering/
LOCATION:it Reade Hynder\, it Noard\, Wommels
END:VEVENT
BEGIN:VEVENT
DTSTART;TZID=Europe/Paris:20171108T193000
DTEND;TZID=Europe/Paris:20171108T233000
DTSTAMP:20260423T133530
CREATED:20170830T054821Z
LAST-MODIFIED:20171020T095923Z
UID:459-1510169400-1510183800@ovwe.nl
SUMMARY:Najaarsleden vergadering 8 november 2017
DESCRIPTION:De najaarsleden vergadering zal wederom worden gehouden bij Noflik in Easterein. \nLeden zullen stemmen over deelname aan het ondernemersfonds wat per 1 jan 2018 van kracht zal zijn. Verder info ook in Op’e Skille en onze Facebook pagina volgt. \nDe avond zal verder worden verzorgd door onze gastspreker Frank Krake. \nHet ondernemersfonds ondersteunend voor de regio Wommels Easterein? \nDe leden van OVWE zullen binnenkort gaan stemmen over het ondernemersfonds. Eigenaren van panden binnen Wommels\, Easterein e.o. die niet zijn bestemd voor wonen gaan per 1 januari 0\,06%  over de OZB waarde betalen aan dit fonds. Omdat binnen onze regio een ondernemersvereniging is gevestigd is het door de overheid vastgelegd dat leden van deze vereniging kunnen stemmen om mee te doen aan het fonds of niet deel te nemen en retributie aan te vragen. Wanneer de leden instemmen met het fonds betalen dus ook alle eigenaren van panden die geen woningen zijn mee aan dit fonds zonder het recht van retributie! Dus ook als u wel of geen ondernemer bent of wel of geen lid bent van de OVWE.  \nTijdens onze voorjaarsvergadering van 22 maart dit voorjaar zijn alle ondernemers ingeschreven bij de KVK van Wommels en Easterein e.o. uitgenodigd op de algemene ledenvergadering. I.v.m. de aankomende gemeentelijke herindeling naar de gemeente Súdwest Fryslan zijn wij toen geïnformeerd door wethouder Maarten Offinga en  dhr. Jacques Hoogenboom fondsmanager van het ondernemersfonds wat ons te wachten staat met betrekking tot de O.Z.B. verhoging. \nOp de komende najaarsledenvergadering 8 november a.s. in zalencentrum Noflik Easterein zijn alle leden uitgenodigd. Er zal om 19:30 door de leden gestemd worden om wel of geen gebruik te maken van de faciliteiten van het fonds. Per lidmaatschap/bedrijf geldt 1 stem! Wanneer een meerderheid van de leden tegen stemt bestaat er de mogelijkheid dat er een retributie kan worden gevraagd.  Wanneer de leden voor stemmen kunnen we gebruikmaken van de gelden van dit fonds. De voorzitter van het ondernemersfonds dhr. Ben Smid zal op deze avond aanwezig zijn voor korte toelichting. \nZoals op de site http://www.ondernemersfondsswf.nl/ staat aangegeven belast de gemeente SWF de eigenaren van alle panden niet bestemd voor wonen op het vastgoed. \nEr zijn een aantal voordelen te noemen voor de ondernemers van Wommels en Easterein. Op basis van gegevens 2016 zou dit betekenen voor Wommels € 16.000\,– en Easterein: € 5.000\,–.  Hier kunnen activiteiten die een gemeenschappelijk doel hebben voor de ondernemers en de omgeving van het winkelcentrum en bedrijventerrein ten goede komen. Te denken aan parkmanagement\, beveiliging\, feestelijke activiteiten\, reclame en verlichting winkelgebieden\, glasvezel\, sponsering lokale acties en evenementen\, jaarmarkten welke door nu de OVWE worden gesponsord etc. \nEventuele vragen kunt u vooraf stellen aan info@ovwe.nl zodat er tijdens deze avond geen discussie meer hoeft te zijn. \nNamens het bestuur\, Wietse B. Ligthart (voorzitter)
URL:https://ovwe.nl/agenda/najaarsleden-vergadering-8-november-2017/
END:VEVENT
BEGIN:VEVENT
DTSTART;TZID=Europe/Paris:20170908T190000
DTEND;TZID=Europe/Paris:20170908T233000
DTSTAMP:20260423T133530
CREATED:20170830T054538Z
LAST-MODIFIED:20171017T054655Z
UID:457-1504897200-1504913400@ovwe.nl
SUMMARY:8 September nachtkaatsen Wommels.
DESCRIPTION:8e BEDRIJFS( NACHT )KAATSPARTIJ OP Vrijdag 8 September om  19.30 uur op de TERP in WOMMELS \nWommels\, juli  2016. \nBetreft: Ondernemerskaatsen \nGeachte Ondernemer c.q. kaatsliefhebber\, \nHet is bijna weer zover\, de 8e  editie van het ondernemerskaatsen van 2017 komt er aan.. \nDit kaatsen vindt dit jaar op 8 september plaats op de Terp in Wommels. \nDeze partij is weer een Nachtkaatspartij\, waar met de zachte bal zal worden gekaatst. \nDe starttijd is iets gewijzigd\, we beginnen nu om 19.30 met de wedstrijden. \n  \nIeder onderneming mag meerdere parturen aanmelden. \nDe regels voor de deelnemers zijn niet veranderd. \nEr kan ook in 2 tallen opgegeven  worden\, eventueel kan er dan iemand bij geloot worden. \nMinimaal een persoon werkzaam bij de onderneming\, de andere kaatsers dienen een link met het bedrijf te hebben.( Familie\,vriend of vriendin) \n  \nOPGAVE VOOR DE WEDSTRIJD IS  tot en met Woensdag 6 september.( 20.00 uur) \nDe inleg voor deze wedstrijd is € 7\,50 p.p. \nOpgave via de Mail.      (Jeroen Brouwer Info@brouwers-schilders.nl \n(Tom Couperus tomcouperus@planet.nl) \n  \nER KOMT ALTIJD EEN BEVESTIGING.  ( Anders geen inschrijving ) \nTussen de wedstrijden door zullen er hapjes geserveerd worden.. \n  \nUitslagen! \n1  Jimbar                                                        Voor-tegen \n:    Tjeerd de Vries                                           21   –   9  \n     Jan Friso Bruinsma \n      Anne Brouwer \n  \n2  Woonvaria                                        \n:    Jelle de Vries                                             21   –   11           \n     Sybren G. de Jong   \n     Johan Delfsma                    \n  \n3  Vellinga Transport 1                                   21   –   15 \n:    Pieter Vellinga                     \n     Harm Auke Dijkstra             \n     Henk Ebbinge        
URL:https://ovwe.nl/agenda/8-september-nachtkaatsen-wommels/
END:VEVENT
BEGIN:VEVENT
DTSTART;VALUE=DATE:20170702
DTEND;VALUE=DATE:20170703
DTSTAMP:20260423T133530
CREATED:20170426T131816Z
LAST-MODIFIED:20170426T131816Z
UID:427-1498953600-1499039999@ovwe.nl
SUMMARY:OVWE Ledenuitje
DESCRIPTION:Jaarlijks leden uitje\, details volgen.
URL:https://ovwe.nl/agenda/ovwe-ledenuitje/
END:VEVENT
END:VCALENDAR